BEGIN:VCALENDAR
VERSION:2.0
PRODID:-//Plone.org//NONSGML plone.app.event//EN
X-WR-TIMEZONE:Europe/Helsinki
BEGIN:VEVENT
SUMMARY:Бъдещето на адаптацията през 2016 г.: 
 практики и решения
DTSTART;VALUE=DATE:20160510
DTEND;VALUE=DATE:20160512
DTSTAMP:20260420T060903Z
UID:c64be4a7d3c04670b37f0b0122074c4a@localhost:8001
CONTACT:http://www.adaptationfutures2016.org/
CREATED:20250413T232009Z
LAST-MODIFIED:20250413T232009Z
LOCATION:Rotterdam\, The Netherlands
URL:https://climate-adapt.eea.europa.eu/bg/more-events/adaptation-futures-
 2016-practices-and-solutions
END:VEVENT
END:VCALENDAR
