BEGIN:VCALENDAR
VERSION:2.0
PRODID:-//Plone.org//NONSGML plone.app.event//EN
X-WR-TIMEZONE:Europe/Helsinki
BEGIN:VEVENT
SUMMARY:Конференция LifeCoolCity
DTSTART;TZID=Europe/Helsinki:20240610T120000
DTEND;TZID=Europe/Helsinki:20240618T140000
DTSTAMP:20260419T234945Z
UID:12bb9be3e221464ca7afb8c7a9f73f76@climate-adapt.eea.europa.eu
CATEGORIES:event,conference
CONTACT:https://www.mggpaero.com/en/lifecoolcity.html
CREATED:20240610T124925Z
DESCRIPTION:Как природата подкрепя градовете 
 в условията на изменението на климата? С
 ъфинансираният от ЕС проект LifeCoolCity During щ
 е обсъди как да се засили развитието на с
 иньо-зелената инфраструктура по отношен
 ие на пет фактора\, които изграждат адапт
 ивния потенциал на града: запечатване на
  земя\, градски топлинен остров\, състоян
 ието на синята инфраструктура\, състояни
 ето на зелената инфраструктура и състоя
 нието на биологичното разнообразие. Таз
 и онлайн конференция ще бъде на полски е
 зик с превод на английски език.
LAST-MODIFIED:20250413T233524Z
LOCATION:Online
URL:https://climate-adapt.eea.europa.eu/bg/more-events/lifecoolcity-confer
 ence
END:VEVENT
BEGIN:VTIMEZONE
TZID:Europe/Helsinki
X-LIC-LOCATION:Europe/Helsinki
BEGIN:DAYLIGHT
DTSTART:20240331T040000
TZNAME:EEST
TZOFFSETFROM:+0200
TZOFFSETTO:+0300
END:DAYLIGHT
END:VTIMEZONE
END:VCALENDAR
