BEGIN:VCALENDAR
VERSION:2.0
PRODID:-//Plone.org//NONSGML plone.app.event//EN
X-WR-TIMEZONE:Europe/Helsinki
BEGIN:VEVENT
SUMMARY:Уебинар на тема „Прилагане на подхо
 д за адаптиране към изменението на клима
 та на местно равнище“
DTSTART;TZID=Europe/Helsinki:20171211T110000
DTEND;TZID=Europe/Helsinki:20171211T124500
DTSTAMP:20260419T180506Z
UID:9d3341078de14c718620dfbc990f7c85@varnish
CONTACT:Lea Kleinenkuhnen\, lea.kleinenkuhnen@eumayors.eu\, http://www.cov
 enantofmayors.eu/agenda_en.html?id_event=1930
CREATED:20250413T234517Z
DESCRIPTION:Споразумението на кметовете за кл
 имата и енергетиката организира уебинар
  за местните власти на тема „Прилагане н
 а подход за адаптиране към изменението н
 а климата на местно равнище“ на 11 декемв
 ри 2017 г. Сесията ще се съсредоточи върху 
 оценката и избора на варианти за адаптац
 ия. Експерти от изследователски институ
 ти\, Европейската комисия и представител
 и на градовете ще говорят за използванет
 о на резултатите от научните изследвани
 я в местното планиране на адаптацията.
LAST-MODIFIED:20250413T234518Z
LOCATION:(online) Belgium
URL:https://climate-adapt.eea.europa.eu/bg/more-events/webinar-on-implemen
 ting-a-pathway-approach-for-climate-change-adaptation-at-the-local-level
END:VEVENT
BEGIN:VTIMEZONE
TZID:Europe/Helsinki
X-LIC-LOCATION:Europe/Helsinki
BEGIN:STANDARD
DTSTART:20171029T030000
TZNAME:EET
TZOFFSETFROM:+0300
TZOFFSETTO:+0200
END:STANDARD
END:VTIMEZONE
END:VCALENDAR
