BEGIN:VCALENDAR
VERSION:2.0
PRODID:-//Plone.org//NONSGML plone.app.event//EN
X-WR-TIMEZONE:Europe/Helsinki
BEGIN:VEVENT
SUMMARY:Naturethon — Навигиране на нови пътища з
 а природосъобразно финансиране на решен
 ия
DTSTART;TZID=Europe/Helsinki:20240524T074858
DTEND;TZID=Europe/Helsinki:20240930T074911
DTSTAMP:20260419T172138Z
UID:67f8de184b0e451cb4128ad46af1907c@climate-adapt.eea.europa.eu
CONTACT:Davide Michielin\, naturethon@naturanceproject.eu\, https://www.na
 turanceproject.eu/naturethon/
CREATED:20250413T234638Z
DESCRIPTION:Финансираният от ЕС проект „Нату
 ра“ организира срещи на граждански груп
 и в цяла Европа и извън нея\, които имат з
 а цел да се възползват от колективното р
 азбиране за разгръщането на NbS и да стиму
 лират дискусиите относно техните финанс
 ови механизми и инструменти.
LAST-MODIFIED:20250413T234639Z
LOCATION:online
URL:https://climate-adapt.eea.europa.eu/bg/naturethon-navigating-new-paths
 -for-nature-based-solution-finance
END:VEVENT
BEGIN:VTIMEZONE
TZID:Europe/Helsinki
X-LIC-LOCATION:Europe/Helsinki
BEGIN:DAYLIGHT
DTSTART:20240331T040000
TZNAME:EEST
TZOFFSETFROM:+0200
TZOFFSETTO:+0300
END:DAYLIGHT
END:VTIMEZONE
END:VCALENDAR
