BEGIN:VCALENDAR
VERSION:2.0
PRODID:-//Plone.org//NONSGML plone.app.event//EN
X-WR-TIMEZONE:Europe/Helsinki
BEGIN:VEVENT
SUMMARY:Světový summit Ecocity
DTSTART;VALUE=DATE:20220222
DTEND;VALUE=DATE:20220226
DTSTAMP:20260419T145525Z
UID:be7f946288614794b367a33b8a4e1c66@varnish:6081
CATEGORIES:event,Green city,cities
CONTACT:https://ecocity-summit.com/
CREATED:20250414T203416Z
DESCRIPTION:Cílem série Ecocity World Summit Series je podpořit přehod
 nocení a přestavbu naší lidské civilizace po celém světě\, aby exi
 stovala v rovnováze s živými systémy. Čtrnáctý ročník se zaměřu
 je na témata související se zdravými a udržitelnými městskými obla
 stmi a zve inovátory\, inženýry a projektanty\, tvůrce politik a dalš
 í odborníky\, mezi něž patří přizpůsobení se změně klimatu a od
 olnost vůči změně klimatu.
LAST-MODIFIED:20250414T203416Z
LOCATION:Online
URL:https://climate-adapt.eea.europa.eu/cs/more-events/14th-ecocity-world-
 summit
END:VEVENT
END:VCALENDAR
