BEGIN:VCALENDAR
VERSION:2.0
PRODID:-//Plone.org//NONSGML plone.app.event//EN
X-WR-TIMEZONE:Europe/Helsinki
BEGIN:VEVENT
SUMMARY:Sympozium třetího světa o komunikaci o změně klimatu (aktuali
 zace COVID-19 –> zrušena)
DTSTART;VALUE=DATE:20200706
DTEND;VALUE=DATE:20200709
DTSTAMP:20260421T133109Z
UID:5dfd0856960c4d48bd41361255405eb6@varnish:6081
CATEGORIES:event
CONTACT:https://www.haw-hamburg.de/en/ftz-nk/events/communication2020.html
CREATED:20250414T203047Z
DESCRIPTION:Složitost změny klimatu znamená\, že jsou naléhavě zapot
 řebí vhodné přístupy\, metody a nástroje k informování o problému
 . Sympozium bude interdisciplinární akcí\, která mobilizuje vědce\, s
 ociální hnutí\, odborníky a členy vládních agentur\, provádí výz
 kum a / nebo realizuje projekty v oblasti komunikace o změně klimatu po 
 celém světě.
LAST-MODIFIED:20250414T203047Z
LOCATION:Warsaw\, Poland
URL:https://climate-adapt.eea.europa.eu/cs/more-events/3rd-world-symposium
 -on-climate-change-communication
END:VEVENT
END:VCALENDAR
