BEGIN:VCALENDAR
VERSION:2.0
PRODID:-//Plone.org//NONSGML plone.app.event//EN
X-WR-TIMEZONE:Europe/Helsinki
BEGIN:VEVENT
SUMMARY:Výroční seminář znalostního centra pro zvládání rizik kat
 astrof
DTSTART;TZID=Europe/Helsinki:20221122T140000
DTEND;TZID=Europe/Helsinki:20221123T170000
DTSTAMP:20260421T133114Z
UID:14957e0b32f84b8cb8f58696a29aac36@varnish:6081
CATEGORIES:Risk analysis,Complex climate change hazards,Scientific communi
 ty
CONTACT:ec-drmkc-annual-seminar@ec.europa.eu\, https://drmkc.jrc.ec.europa
 .eu/events-news/drmkc-annual-seminars/6th-drmkc-annual-seminar
CREATED:20250414T203044Z
DESCRIPTION:Cílem této dvoudenní akce DRMKC je sdílet úspěchy vědec
 kého pilíře sítě znalostí Unie v oblasti civilní ochrany (UCPKN) p
 ři řešení výzev\, jako jsou mimo jiné kombinované\, souběžné a k
 askádové události\, které je třeba zahrnout do analýzy rizik\, nebo 
 komunikační výzvy v oblasti řízení rizik. Hybridní akce je pořád
 ána společně s francouzským ministerstvem vnitra a společně s GŘ EC
 HO v Paříži.
LAST-MODIFIED:20250414T203045Z
LOCATION:Paris\, France / hybrid
URL:https://climate-adapt.eea.europa.eu/cs/more-events/6th-drmkc-annual-se
 minar-1
END:VEVENT
BEGIN:VTIMEZONE
TZID:Europe/Helsinki
X-LIC-LOCATION:Europe/Helsinki
BEGIN:STANDARD
DTSTART:20221030T030000
TZNAME:EET
TZOFFSETFROM:+0300
TZOFFSETTO:+0200
END:STANDARD
END:VTIMEZONE
END:VCALENDAR
