BEGIN:VCALENDAR
VERSION:2.0
PRODID:-//Plone.org//NONSGML plone.app.event//EN
X-WR-TIMEZONE:Europe/Helsinki
BEGIN:VEVENT
SUMMARY:COP26 – zvláštní zasedání: Klimatická řešení s velkým 
 dopadem
DTSTART;TZID=Europe/Helsinki:20211110T194500
DTEND;TZID=Europe/Helsinki:20211110T204500
DTSTAMP:20260420T045002Z
UID:f2c6365b3d5d4e8faa5a1e40f0281d3f@varnish:6081
CATEGORIES:Clean technologies,Innovation,Profitable climate solutions,Prof
 itable climate solutions
CONTACT:https://solutions.solarimpulse.com/e-pitch-high-impact-climate-sol
 utions
CREATED:20250414T203225Z
DESCRIPTION:Tato akce ukáže\, jak vysoce zisková řešení v oblasti kl
 imatu přispívají k cílům konference COP21 v oblasti klimatu\, a zapoj
 í se do rozhovorů s institucemi s cílem urychlit jejich provádění. P
 o úvodním vystoupení ředitele Evropské investiční banky\, generáln
 ího ředitele Chrise Hursta a Bertranda Piccarda na straně nadace Solar 
 Impulse se uskuteční přehlídka řady řešení s velkým dopadem v rů
 zných odvětvích\, po níž budou následovat dvě kola panelových disk
 usí.
LAST-MODIFIED:20250414T203225Z
LOCATION:Online and Glasgow\, UK
URL:https://climate-adapt.eea.europa.eu/cs/more-events/cop26-2013-special-
 session-high-impact-climate-solutions
END:VEVENT
BEGIN:VTIMEZONE
TZID:Europe/Helsinki
X-LIC-LOCATION:Europe/Helsinki
BEGIN:STANDARD
DTSTART:20211031T030000
TZNAME:EET
TZOFFSETFROM:+0300
TZOFFSETTO:+0200
END:STANDARD
END:VTIMEZONE
END:VCALENDAR
