BEGIN:VCALENDAR
VERSION:2.0
PRODID:-//Plone.org//NONSGML plone.app.event//EN
X-WR-TIMEZONE:Europe/Helsinki
BEGIN:VEVENT
SUMMARY:Závěrečná schůze věnovaná studii o modelování přizpůsob
 ení se změně klimatu
DTSTART;TZID=Europe/Helsinki:20220318T133000
DTEND;TZID=Europe/Helsinki:20220318T150000
DTSTAMP:20260420T083001Z
UID:73d2b9b487d14892a50ab71cc9ad2d34@varnish:6081
CATEGORIES:event,policy making
CONTACT:https://www.cmcc.it/lectures_conferences/study-on-climate-adaptati
 on-modelling-final-briefing
CREATED:20250414T203400Z
DESCRIPTION:Výsledky studie o adaptačním modelování\, kterou zadalo G
 Ř CLIMA Evropské komise a kterou provedla skupina mezinárodních vědc
 ů koordinovaná nadací CMCC\, se zaměřují na adaptační modelování
  s cílem podpořit informovanější rozhodování. Tato závěrečná ak
 ce bude diskutovat o výsledcích studie s ohledem na nedávný vývoj v o
 blasti adaptační politiky.
LAST-MODIFIED:20250414T203400Z
LOCATION:Online
URL:https://climate-adapt.eea.europa.eu/cs/more-events/final-meeting-on-th
 e-study-on-climate-adaptation-modelling
END:VEVENT
BEGIN:VTIMEZONE
TZID:Europe/Helsinki
X-LIC-LOCATION:Europe/Helsinki
BEGIN:STANDARD
DTSTART:20211031T030000
TZNAME:EET
TZOFFSETFROM:+0300
TZOFFSETTO:+0200
END:STANDARD
END:VTIMEZONE
END:VCALENDAR
