BEGIN:VCALENDAR
VERSION:2.0
PRODID:-//Plone.org//NONSGML plone.app.event//EN
X-WR-TIMEZONE:Europe/Helsinki
BEGIN:VEVENT
SUMMARY:Konference FLOODrisk 2016
DTSTART;TZID=Europe/Helsinki:20161017T100000
DTEND;TZID=Europe/Helsinki:20161021T235500
DTSTAMP:20260420T064437Z
UID:be3f0f220afd402bb7b7d5df00113e47@localhost:8000
CONTACT:http://floodrisk2016.net/
CREATED:20250414T203802Z
DESCRIPTION:FLOODrisk 2016 bude zkoumat pokroky ve výzkumu v analýze pov
 odňových rizik a inovace v praxi řízení povodňových rizik. Konferen
 ce se bude zabývat všemi aspekty povodňových rizik a bude se zabývat 
 příčinami povodní\, jejich dopady na lidi\, majetek a životní prost
 ředí a portfolii opatření pro řízení rizik.
LAST-MODIFIED:20250414T203803Z
LOCATION:Lyon\, France
URL:https://climate-adapt.eea.europa.eu/cs/more-events/floodrisk-2016-conf
 erence
END:VEVENT
BEGIN:VTIMEZONE
TZID:Europe/Helsinki
X-LIC-LOCATION:Europe/Helsinki
BEGIN:DAYLIGHT
DTSTART:20160327T040000
TZNAME:EEST
TZOFFSETFROM:+0200
TZOFFSETTO:+0300
END:DAYLIGHT
END:VTIMEZONE
END:VCALENDAR
