BEGIN:VCALENDAR
VERSION:2.0
PRODID:-//Plone.org//NONSGML plone.app.event//EN
X-WR-TIMEZONE:Europe/Helsinki
BEGIN:VEVENT
SUMMARY:Zahájení Světového kongresu ICLEI
DTSTART;VALUE=DATE:20210412
DTEND;VALUE=DATE:20210417
DTSTAMP:20260419T185702Z
UID:13e085f06d10403da218b5ab96a09288@varnish:6081
CATEGORIES:event
CONTACT:https://worldcongress.iclei.org/updates/day-1/
CREATED:20250414T203446Z
DESCRIPTION:Tato digitální zahajovací akce se bude skládat z globáln
 ích diskusí na vysoké úrovni o přínosech měst\, obcí a regionů k 
 udržitelné budoucnosti\, po nichž bude následovat celoroční zkušeno
 st s cílem sdružit místní a regionální orgány sítě ICLEI navzdory
  pandemii. Přizpůsobení se změně klimatu se bude projednávat předev
 ším poslední den této zahajovací akce.
LAST-MODIFIED:20250414T203446Z
LOCATION:Online
URL:https://climate-adapt.eea.europa.eu/cs/more-events/iclei-world-congres
 s-launch
END:VEVENT
END:VCALENDAR
