BEGIN:VCALENDAR
VERSION:2.0
PRODID:-//Plone.org//NONSGML plone.app.event//EN
X-WR-TIMEZONE:Europe/Helsinki
BEGIN:VEVENT
SUMMARY:konference LifeCoolCity
DTSTART;TZID=Europe/Helsinki:20240610T120000
DTEND;TZID=Europe/Helsinki:20240618T140000
DTSTAMP:20260419T172111Z
UID:12bb9be3e221464ca7afb8c7a9f73f76@climate-adapt.eea.europa.eu
CATEGORIES:event,conference
CONTACT:https://www.mggpaero.com/en/lifecoolcity.html
CREATED:20240610T124835Z
DESCRIPTION:Jak příroda podporuje města tváří v tvář změně klima
 tu? Projekt LifeCoolCity During spolufinancovaný EU bude diskutovat o tom
 \, jak posílit rozvoj modrozelené infrastruktury z hlediska pěti faktor
 ů\, které budují adaptační potenciál města: zakrývání půdy\, m
 ěstský tepelný ostrov\, stav modré infrastruktury\, stav zelené infra
 struktury a stav biologické rozmanitosti. Tato online konference bude v p
 olštině s anglickým překladem.
LAST-MODIFIED:20250414T203534Z
LOCATION:Online
URL:https://climate-adapt.eea.europa.eu/cs/more-events/lifecoolcity-confer
 ence
END:VEVENT
BEGIN:VTIMEZONE
TZID:Europe/Helsinki
X-LIC-LOCATION:Europe/Helsinki
BEGIN:DAYLIGHT
DTSTART:20240331T040000
TZNAME:EEST
TZOFFSETFROM:+0200
TZOFFSETTO:+0300
END:DAYLIGHT
END:VTIMEZONE
END:VCALENDAR
