BEGIN:VCALENDAR
VERSION:2.0
PRODID:-//Plone.org//NONSGML plone.app.event//EN
X-WR-TIMEZONE:Europe/Helsinki
BEGIN:VEVENT
SUMMARY:Webinář o územním plánování námořních prostor v měníc
 ím se klimatu
DTSTART;TZID=Europe/Helsinki:20230209T120000
DTEND;TZID=Europe/Helsinki:20230209T130000
DTSTAMP:20260420T194759Z
UID:8717a4f5f98c46378345e51f702f363d@varnish:6081
CATEGORIES:Webinar,Climate impact,Maritime Spatial Planning
CREATED:20250414T203850Z
DESCRIPTION:Cílem územního plánování námořních prostor je vyrovna
 t se s rostoucí poptávkou po mořském prostoru a zdrojích z tradiční
 ch a vznikajících odvětví a zároveň zachovat mořské ekosystémy a 
 jejich služby. Vzhledem k tomu\, že územní plánování námořních p
 rostor je dlouhodobým a dalekosáhlým procesem\, mělo by zohledňovat p
 římé i nepřímé dopady změny klimatu. Webinář bude informovat úč
 astníky z měst a obcí\, okresů\, regionů\, mořských a námořních 
 orgánů\, námořních a pobřežních hospodářských subjektů\, akade
 mické obce a organizací občanské společnosti o dopadech změny klimat
 u a o možnostech\, jak toto odvětví učinit odolným vůči změně kli
 matu. Registrace je nutná.
LAST-MODIFIED:20250414T203850Z
LOCATION:Online
URL:https://climate-adapt.eea.europa.eu/cs/more-events/webinar-on-maritime
 -spatial-planning-in-a-changing-climate
END:VEVENT
BEGIN:VTIMEZONE
TZID:Europe/Helsinki
X-LIC-LOCATION:Europe/Helsinki
BEGIN:STANDARD
DTSTART:20221030T030000
TZNAME:EET
TZOFFSETFROM:+0300
TZOFFSETTO:+0200
END:STANDARD
END:VTIMEZONE
END:VCALENDAR
