BEGIN:VCALENDAR
VERSION:2.0
PRODID:-//Plone.org//NONSGML plone.app.event//EN
X-WR-TIMEZONE:Europe/Helsinki
BEGIN:VEVENT
SUMMARY:Webinář o přizpůsobení se změně klimatu a plánování pomo
 ci při katastrofách
DTSTART;TZID=Europe/Helsinki:20240725T150000
DTEND;TZID=Europe/Helsinki:20240725T160000
DTSTAMP:20260420T052553Z
UID:5a63c5b2810f47ae9f64d082070dad2d@climate-adapt.eea.europa.eu
CATEGORIES:disaster resilience,climate change impacts,health and climate c
 hange
CONTACT:https://southeastenergy.ie/event/fourth-european-climate-pact-lunc
 h-talk-webinar/
CREATED:20250414T191245Z
DESCRIPTION:Jihovýchodní energetická agentura a Evropská klimatická p
 akt pořádají ve čtvrtek 25. července 2024 ve 14:00 SELČ webinář na
 zvaný „Přizpůsobení se změně klimatu a plánování pomoci při ka
 tastrofách“. Cílem tohoto webináře je zlepšit znalosti a povědomí
  o politice a opatřeních v oblasti klimatu. Mezi témata patří „Poli
 tika a správa v oblasti přizpůsobování se změně klimatu“\, „Dop
 ady změny klimatu na zdraví a pomoc při katastrofách“ a „Klimatick
 é Irsko“ se zaměřením na posouzení rizik. Bude také obsahovat inte
 raktivní zasedání\, kde se účastníci mohou podělit o své zkušenos
 ti\, a Q&A zasedání.
LAST-MODIFIED:20250414T191245Z
LOCATION:Online via Zoom
URL:https://climate-adapt.eea.europa.eu/cs/observatory/more-events-observa
 tory/webinar-on-climate-adaptation-and-disaster-relief-planning
END:VEVENT
BEGIN:VTIMEZONE
TZID:Europe/Helsinki
X-LIC-LOCATION:Europe/Helsinki
BEGIN:DAYLIGHT
DTSTART:20240331T040000
TZNAME:EEST
TZOFFSETFROM:+0200
TZOFFSETTO:+0300
END:DAYLIGHT
END:VTIMEZONE
END:VCALENDAR
