BEGIN:VCALENDAR
VERSION:2.0
PRODID:-//Plone.org//NONSGML plone.app.event//EN
X-WR-TIMEZONE:Europe/Helsinki
BEGIN:VEVENT
SUMMARY:LIFE-programmets informationsdage (eksternt arrangement)
DTSTART;VALUE=DATE:20250513
DTEND;VALUE=DATE:20250516
DTSTAMP:20260419T174325Z
UID:99ddcf0bb71f40f08ce09eaf96da7a65@climate-adapt.eea.europa.eu
CONTACT:https://vo-europe.swoogo.com/eu-life-info-days-2025/Home
CREATED:20250413T072047Z
DESCRIPTION:15. maj 2025
LAST-MODIFIED:20250413T072048Z
URL:https://climate-adapt.eea.europa.eu/da/mission/events/life-programme-i
 ngo-days-external-event
END:VEVENT
END:VCALENDAR
