BEGIN:VCALENDAR
VERSION:2.0
PRODID:-//Plone.org//NONSGML plone.app.event//EN
X-WR-TIMEZONE:Europe/Helsinki
BEGIN:VEVENT
SUMMARY:Tredje verdenssymposium om meddelelsen om klimaændringer (ajourf
 øring af covid-19 -> annulleret)
DTSTART;VALUE=DATE:20200706
DTEND;VALUE=DATE:20200709
DTSTAMP:20260419T195745Z
UID:5dfd0856960c4d48bd41361255405eb6@varnish:6081
CATEGORIES:event
CONTACT:https://www.haw-hamburg.de/en/ftz-nk/events/communication2020.html
CREATED:20250413T075542Z
DESCRIPTION:Klimaændringernes kompleksitet betyder\, at der er et presser
 ende behov for passende tilgange\, metoder og værktøjer til at formidle 
 problemet. Symposiet vil være en tværfaglig begivenhed\, der mobiliserer
  forskere\, sociale bevægelser\, praktikere og medlemmer af statslige org
 aner\, der gennemfører forskning og / eller udfører projekter om klimaæ
 ndringskommunikation over hele verden.
LAST-MODIFIED:20250413T075542Z
LOCATION:Warsaw\, Poland
URL:https://climate-adapt.eea.europa.eu/da/more-events/3rd-world-symposium
 -on-climate-change-communication
END:VEVENT
END:VCALENDAR
