BEGIN:VCALENDAR
VERSION:2.0
PRODID:-//Plone.org//NONSGML plone.app.event//EN
X-WR-TIMEZONE:Europe/Helsinki
BEGIN:VEVENT
SUMMARY:Den fjerde konference om Østersø-jorden
DTSTART;VALUE=DATE:20220530
DTEND;VALUE=DATE:20220605
DTSTAMP:20260419T183038Z
UID:f1d9a1e626024a899a38fe2abff6779f@varnish:6081
CATEGORIES:Regional Earth system,Baltic sea,Regional climate variability
CONTACT:https://www.baltic-earth.eu/events/087774/index.php.en
CREATED:20250413T075603Z
DESCRIPTION:Den fjerde Baltic Earth-konference\, der afholdes af Earth Sys
 tem Science for the Baltic Sea Region (Baltic Earth)\, finder sted i Jasta
 rnia\, Hel-halvøen\, Polen fra den 30. maj 2022 til den 3. juni 2022. Kon
 ferencen dækker emnerne i Baltic Earth Assessment Reports (BEAR)\, som af
 spejler de fleste store udfordringer og forskningstemaer i Baltic Earth i 
 løbet af de sidste ni år. Nogle emner\, der skal drøftes\, er bl.a. nat
 urkatastrofer og ekstreme hændelser\, havniveaudynamik og kysterosion\, b
 æredygtige forvaltningsmuligheder\, analyse og modellering af tidligere o
 g fremtidige klimaændringer.
LAST-MODIFIED:20250413T075604Z
LOCATION:Jastarnia\, Hel Peninsula\, Poland
URL:https://climate-adapt.eea.europa.eu/da/more-events/4th-baltic-earth-co
 nference
END:VEVENT
END:VCALENDAR
