BEGIN:VCALENDAR
VERSION:2.0
PRODID:-//Plone.org//NONSGML plone.app.event//EN
X-WR-TIMEZONE:Europe/Helsinki
BEGIN:VEVENT
SUMMARY:Klimavidenskab2Policy workshop
DTSTART;VALUE=DATE:20201117
DTEND;VALUE=DATE:20201120
DTSTAMP:20260419T211423Z
UID:8fac62873bdd43a2abf12c976bf68fa9@varnish:6081
CATEGORIES:event
CONTACT:https://ec.europa.eu/easme/en/section/environment/climate-science2
 policy-workshop
CREATED:20250411T103540Z
DESCRIPTION:Denne videnskabelige til politiske workshop vil sikre samarbej
 de mellem forskersamfundet og de politiske beslutningstagere om europæisk
 e modvirknings- og tilpasningsbestræbelser i forbindelse med klimaændrin
 ger.
LAST-MODIFIED:20250413T075719Z
LOCATION:Online
URL:https://climate-adapt.eea.europa.eu/da/more-events/climate-science2pol
 icy-workshop
END:VEVENT
END:VCALENDAR
