BEGIN:VCALENDAR
VERSION:2.0
PRODID:-//Plone.org//NONSGML plone.app.event//EN
X-WR-TIMEZONE:Europe/Helsinki
BEGIN:VEVENT
SUMMARY:NSO-webinar: jordobservationsløsninger til tilpasning til og modv
 irkning af klimaændringer
DTSTART;TZID=Europe/Helsinki:20230331T120000
DTEND;TZID=Europe/Helsinki:20230331T133000
DTSTAMP:20260421T063016Z
UID:97452ffc7cc04b718b7bb6abcfda914e@climate-adapt.eea.europa.eu
CATEGORIES:webinar,EO,NSO
CONTACT:https://events.teams.microsoft.com/event/77726ed0-7953-4fc7-a29e-6
 4147695ac7f@d6e513b7-5947-4e1a-a8de-77d9c9188916
CREATED:20250411T103610Z
DESCRIPTION:Det nederlandske rumkontor (NSO) vil forklare merværdien af o
 g hvordan man implementerer tjenester baseret på satellitdata. Desuden vi
 l virksomhederne præsentere de tjenester\, de har udviklet. Deltagerne vi
 l lære mere om de tjenester\, som disse virksomheder har at tilbyde\, og 
 om\, hvad der kræves for at starte et innovationsprojekt som en offentlig
  forvaltning sammen med markedet.
LAST-MODIFIED:20250413T075816Z
LOCATION:Online
URL:https://climate-adapt.eea.europa.eu/da/more-events/eo-solutions-for-cl
 imate-adaptation-and-mitigation
END:VEVENT
BEGIN:VTIMEZONE
TZID:Europe/Helsinki
X-LIC-LOCATION:Europe/Helsinki
BEGIN:DAYLIGHT
DTSTART:20230326T040000
TZNAME:EEST
TZOFFSETFROM:+0200
TZOFFSETTO:+0300
END:DAYLIGHT
END:VTIMEZONE
END:VCALENDAR
