BEGIN:VCALENDAR
VERSION:2.0
PRODID:-//Plone.org//NONSGML plone.app.event//EN
X-WR-TIMEZONE:Europe/Helsinki
BEGIN:VEVENT
SUMMARY:EU's grønne uge 2018
DTSTART;TZID=Europe/Helsinki:20180521T100000
DTEND;TZID=Europe/Helsinki:20180525T180000
DTSTAMP:20260422T043311Z
UID:8ba2413cc93d405785d4c18034cf4c0f@varnish:6081
CATEGORIES:event
CONTACT:https://www.eugreenweek.eu/
CREATED:20250411T103612Z
DESCRIPTION:EU's Grønne Uge 2018 vil blive afholdt i forskellige europæi
 ske byer og vil undersøge\, hvordan EU hjælper byer med at blive bedre s
 teder at bo og arbejde. Der arrangeres sessioner om emner som byplanlægni
 ng og udvikling i relation til klimatilpasning\, klimatjenester og støtte
  til finansiering af bæredygtige byer. Der vil også blive fremmet tilgan
 ge og værktøjer til udveksling af bedste praksis\, inddragelse af lokale
  myndigheder og borgere og tilskyndelse af dem til at dele deres vision om
  en bæredygtig fremtid.
LAST-MODIFIED:20250413T075908Z
LOCATION:Different European cities
URL:https://climate-adapt.eea.europa.eu/da/more-events/eu-green-week-2018
END:VEVENT
BEGIN:VTIMEZONE
TZID:Europe/Helsinki
X-LIC-LOCATION:Europe/Helsinki
BEGIN:DAYLIGHT
DTSTART:20180325T040000
TZNAME:EEST
TZOFFSETFROM:+0200
TZOFFSETTO:+0300
END:DAYLIGHT
END:VTIMEZONE
END:VCALENDAR
