BEGIN:VCALENDAR
VERSION:2.0
PRODID:-//Plone.org//NONSGML plone.app.event//EN
X-WR-TIMEZONE:Europe/Helsinki
BEGIN:VEVENT
SUMMARY:EU's grønne uge 2019
DTSTART;VALUE=DATE:20190513
DTEND;VALUE=DATE:20190519
DTSTAMP:20260420T012525Z
UID:15ba64fe6b9740f99320e819016e4824@varnish:6081
CATEGORIES:event
CONTACT:https://ec.europa.eu/info/events/eu-green-week-2019_en
CREATED:20250411T103609Z
DESCRIPTION:2019-udgaven af EU's Grønne Uge vil sætte fokus på miljøge
 nnemførelsesprocessen. Det vil omfatte arrangementer i hele Europa med de
 t officielle åbningsarrangement den 13. maj i en af EU's medlemsstater og
  et topmøde på højt plan i Bruxelles den 15.-17. maj. Afslutningen af d
 en grønne uge finder sted ved afslutningen af konferencen i Bruxelles og 
 vil vise de politiske konklusioner fra ugen.
LAST-MODIFIED:20250413T075913Z
LOCATION:Location: across Europe
URL:https://climate-adapt.eea.europa.eu/da/more-events/eu-green-week-2019
END:VEVENT
END:VCALENDAR
