BEGIN:VCALENDAR
VERSION:2.0
PRODID:-//Plone.org//NONSGML plone.app.event//EN
X-WR-TIMEZONE:Europe/Helsinki
BEGIN:VEVENT
SUMMARY:Den europæiske konference om tilpasning til klimaændringer (ECCA
 ) 2019
DTSTART;TZID=Europe/Helsinki:20190528T100000
DTEND;TZID=Europe/Helsinki:20190531T180000
DTSTAMP:20260421T055930Z
UID:8836f82c66dc441f96c9ff3391b3f80f@varnish:6081
CATEGORIES:event
CONTACT:https://www.ecca2019.eu/
CREATED:20250413T075829Z
DESCRIPTION:Den fjerde ECCA-konference: "Samarbejde om at forberede sig p
 å forandringer" vil fokusere på seks temaer\, fra samproduktion af viden
  til håndtering af de globale udfordringer i forbindelse med tilpasning t
 il klimaændringer og katastroferisikoreduktion. Abstract og session indl
 æg: Fra juli til september 2018. Tilmelding åbner september 2018.
LAST-MODIFIED:20250413T075829Z
LOCATION:Lisbon\, Portugal
URL:https://climate-adapt.eea.europa.eu/da/more-events/european-climate-ch
 ange-adaptation-conference-ecca-2019
END:VEVENT
BEGIN:VTIMEZONE
TZID:Europe/Helsinki
X-LIC-LOCATION:Europe/Helsinki
BEGIN:DAYLIGHT
DTSTART:20190331T040000
TZNAME:EEST
TZOFFSETFROM:+0200
TZOFFSETTO:+0300
END:DAYLIGHT
END:VTIMEZONE
END:VCALENDAR
