BEGIN:VCALENDAR
VERSION:2.0
PRODID:-//Plone.org//NONSGML plone.app.event//EN
X-WR-TIMEZONE:Europe/Helsinki
BEGIN:VEVENT
SUMMARY:Afsluttende møde om studien om klimatilpasningsmodellering
DTSTART;TZID=Europe/Helsinki:20220318T133000
DTEND;TZID=Europe/Helsinki:20220318T150000
DTSTAMP:20260421T160702Z
UID:73d2b9b487d14892a50ab71cc9ad2d34@varnish:6081
CATEGORIES:event,policy making
CONTACT:https://www.cmcc.it/lectures_conferences/study-on-climate-adaptati
 on-modelling-final-briefing
CREATED:20250411T103628Z
DESCRIPTION:Resultaterne af undersøgelsen om tilpasningsmodellering\, der
  er bestilt af Europa-Kommissionens GD CLIMA og udført af en gruppe inter
 nationale forskere\, der koordineres af CMCC Foundation\, fokuserer på ti
 lpasningsmodellering med det formål at støtte en mere velinformeret besl
 utningstagning. Dette afsluttende arrangement vil drøfte undersøgelsesre
 sultaterne i lyset af den seneste udvikling i det tilpasningspolitiske lan
 dskab.
LAST-MODIFIED:20250413T075900Z
LOCATION:Online
URL:https://climate-adapt.eea.europa.eu/da/more-events/final-meeting-on-th
 e-study-on-climate-adaptation-modelling
END:VEVENT
BEGIN:VTIMEZONE
TZID:Europe/Helsinki
X-LIC-LOCATION:Europe/Helsinki
BEGIN:STANDARD
DTSTART:20211031T030000
TZNAME:EET
TZOFFSETFROM:+0300
TZOFFSETTO:+0200
END:STANDARD
END:VTIMEZONE
END:VCALENDAR
