BEGIN:VCALENDAR
VERSION:2.0
PRODID:-//Plone.org//NONSGML plone.app.event//EN
X-WR-TIMEZONE:Europe/Helsinki
BEGIN:VEVENT
SUMMARY:Innovate4Cities 2021-konferencen
DTSTART;VALUE=DATE:20211011
DTEND;VALUE=DATE:20211017
DTSTAMP:20260419T200315Z
UID:1c6bcbb632614985bc68d56777fae398@varnish:6081
CATEGORIES:urban
CONTACT:https://i4c.conference.evey.live/conferences/innovate4-cities-2021
 -conference
CREATED:20250411T103637Z
DESCRIPTION:Denne internationale konference vil være en samling i sammenh
 ængen mellem byer\, videnskab og innovation inden for klimaændringer og 
 afholdes i fællesskab af FN-Habitat og den globale borgmesterpagt for kli
 ma og energi (GCoM). Det vil samle over 1 000 byledere\, forskere\, innova
 torer\, akademikere\, unge og forretningsfolk for at fremme pragmatisk og 
 handlingsorienteret forskning og videnskab\, der vil hjælpe byerne med at
  reducere deres CO2-fodaftryk og øge modstandsdygtigheden over for klima
 ændringer.
LAST-MODIFIED:20250413T075944Z
LOCATION:Online
URL:https://climate-adapt.eea.europa.eu/da/more-events/innovate4cities-202
 1-conference
END:VEVENT
END:VCALENDAR
