BEGIN:VCALENDAR
VERSION:2.0
PRODID:-//Plone.org//NONSGML plone.app.event//EN
X-WR-TIMEZONE:Europe/Helsinki
BEGIN:VEVENT
SUMMARY:Naturbaserede løsninger: Frigørelse af bypotentiale
DTSTART;VALUE=DATE:20200924
DTEND;VALUE=DATE:20200926
DTSTAMP:20260420T012521Z
UID:913f1e28d53a47d8bffa41688017b38d@varnish:6081
CATEGORIES:event
CONTACT:https://naturvation.eu/conference-2020
CREATED:20250413T080109Z
DESCRIPTION:Denne virtuelle NATURVATION konference vil skabe ny indsigt i\
 , hvordan urbane naturbaserede løsninger kan levere både lokal og global
  bæredygtighed. Det vil være en blanding af keynote talks\, paneldiskuss
 ioner og interaktive sessioner\, hvor deltagerne vil dele ideer\, eksperti
 se og praktisk erfaring.
LAST-MODIFIED:20250413T080109Z
LOCATION:Online
URL:https://climate-adapt.eea.europa.eu/da/more-events/nature-based-soluti
 ons-unlocking-urban-potential
END:VEVENT
END:VCALENDAR
