BEGIN:VCALENDAR
VERSION:2.0
PRODID:-//Plone.org//NONSGML plone.app.event//EN
X-WR-TIMEZONE:Europe/Helsinki
BEGIN:VEVENT
SUMMARY:Begivenheden "Bedre byer" i byernes fremtid
DTSTART;VALUE=DATE:20260324
DTEND;VALUE=DATE:20260328
DTSTAMP:20260419T183115Z
UID:a3aa599baad945c7848d36001bccc719@climate-adapt.eea.europa.eu
CATEGORIES:Cities,Event
CONTACT:https://urban-future.org/event/uf26-ljubljana/
CREATED:20260120T092452Z
DESCRIPTION:Tilrettelagt af den østrigske byfremtid (UFGC GmbH) mødes by
 ledere og forandringsskabere i Ljubljana for at bevæge bedre byer fremad.
  Klimatilpasning er for det meste omfattet af spor 4\, modstandsdygtige sa
 mfund. Urban Future støtter en bottom-up-bevægelse i Europa med et globa
 lt fællesskab på 50 000 byforandringsskabere.
LAST-MODIFIED:20260120T092505Z
LOCATION:Ljubljana\, Slovenia
URL:https://climate-adapt.eea.europa.eu/da/more-events/the-uf-better-citie
 s-event
END:VEVENT
END:VCALENDAR
