BEGIN:VCALENDAR
VERSION:2.0
PRODID:-//Plone.org//NONSGML plone.app.event//EN
X-WR-TIMEZONE:Europe/Helsinki
BEGIN:VEVENT
SUMMARY:Webinar: datakilder til udarbejdelse og gennemførelse af bytilpas
 ningsplaner i Polen
DTSTART;TZID=Europe/Helsinki:20250402T110000
DTEND;TZID=Europe/Helsinki:20250402T133000
DTSTAMP:20260419T160531Z
UID:5382c6b31c8f4bca8cfbd5876d9fede1@climate-adapt.eea.europa.eu
CATEGORIES:event,webinar,climate adaptation plan
CONTACT:https://klimat.webex.com/weblink/register/re9bf603c684605f260b1ac3
 ef38335f9
CREATED:20250413T094145Z
DESCRIPTION:Dette webinar\, der afholdes af det polske klima- og miljømin
 isterium (Ministerstwo Klimatu i Środowiska)\, giver et overblik over til
 gængelige datakilder\, både på polsk og europæisk plan. Deltagerne vil
  få indsigt i\, hvordan man effektivt udnytter disse datakilder til udvik
 ling og gennemførelse af bytilpasningsplaner med fokus på praktiske vær
 ktøjer\, metoder og casestudier. Webinaret afholdes på polsk med simulta
 ntolkning til engelsk.
LAST-MODIFIED:20250413T094146Z
LOCATION:Online
URL:https://climate-adapt.eea.europa.eu/da/more-events/webinar-data-source
 s-for-developing-and-implementing-urban-adaptation-plans
END:VEVENT
BEGIN:VTIMEZONE
TZID:Europe/Helsinki
X-LIC-LOCATION:Europe/Helsinki
BEGIN:DAYLIGHT
DTSTART:20250330T040000
TZNAME:EEST
TZOFFSETFROM:+0200
TZOFFSETTO:+0300
END:DAYLIGHT
END:VTIMEZONE
END:VCALENDAR
