BEGIN:VCALENDAR
VERSION:2.0
PRODID:-//Plone.org//NONSGML plone.app.event//EN
X-WR-TIMEZONE:Europe/Helsinki
BEGIN:VEVENT
SUMMARY:COP28-sundhedsdagen
DTSTART;VALUE=DATE:20231203
DTEND;VALUE=DATE:20231205
DTSTAMP:20260419T212352Z
UID:1198077549b94a6eb3fa91df733aade6@climate-adapt.eea.europa.eu
CATEGORIES:COP28,climate health crisis,ministerial
CONTACT:https://www.cop28.com/en/schedule
CREATED:20250411T100953Z
DESCRIPTION:Formandskabet for COP28 er i samarbejde med WHO\, Wellcome Tru
 st og partnere vært for den første sundhedsdag nogensinde på COP28 den 
 3. december\, herunder det første ministermøde om klima og sundhed. Sund
 hedsdagen vil omfatte dokumentation for indvirkningen på klimaets sundhed
 \, sundhedsmæssige argumenter for og sidegevinster ved klimaindsatsen beh
 ov\, hindringer\, god praksis\, foranstaltninger og tiltag med henblik på
  modstandsdygtighed over for klimaændringer.
LAST-MODIFIED:20250413T063650Z
LOCATION:Dubai\, UAE and online
URL:https://climate-adapt.eea.europa.eu/da/observatory/more-events-observa
 tory/cop28-health-day
END:VEVENT
END:VCALENDAR
