BEGIN:VCALENDAR
VERSION:2.0
PRODID:-//Plone.org//NONSGML plone.app.event//EN
X-WR-TIMEZONE:Europe/Helsinki
BEGIN:VEVENT
SUMMARY:Konferenz zur Ozeandekade 2024
DTSTART;VALUE=DATE:20240410
DTEND;VALUE=DATE:20240414
DTSTAMP:20260420T104117Z
UID:742153a0e76c40df98bdecdcef045fd5@climate-adapt.eea.europa.eu
CATEGORIES:event,Coastal areas and oceans
CONTACT:https://oceandecade.org/events/2024-ocean-decade-conference/
CREATED:20240328T103754Z
DESCRIPTION:Diese globale Konferenz bringt die Gemeinschaft der Ozeandekad
 e\, die aus der UN-Dekade der Ozeanwissenschaften für nachhaltige Entwick
 lung (2021-2030) hervorgegangen ist\, und Partner zusammen\, um Erfolge zu
  diskutieren und zu feiern und gemeinsame Prioritäten für die Zukunft de
 r Dekade festzulegen. Die Konferenz wird über Dutzende von Satellitenvera
 nstaltungen zu kritischen Themen wie Anpassung an den Klimawandel\, nachha
 ltiges Management der biologischen Vielfalt und Naturgefahren umfassen.
LAST-MODIFIED:20241106T102056Z
LOCATION:Barcelona\, Spain
URL:https://climate-adapt.eea.europa.eu/de/more-events/2024-ocean-decade-c
 onference
END:VEVENT
END:VCALENDAR
