BEGIN:VCALENDAR
VERSION:2.0
PRODID:-//Plone.org//NONSGML plone.app.event//EN
X-WR-TIMEZONE:Europe/Helsinki
BEGIN:VEVENT
SUMMARY:Globale Plattform für Katastrophenvorsorge
DTSTART;TZID=Europe/Helsinki:20170522T030000
DTEND;TZID=Europe/Helsinki:20170527T025959
DTSTAMP:20260419T185704Z
UID:bb4099a4492a4efcbaa42094e7e3a44d@climate-adapt.eea.europa.eu
CONTACT:http://www.unisdr.org/conferences/2017/globalplatform
CREATED:20220910T184118Z
DESCRIPTION:Internationales Forum zum Sendai-Rahmen für Katastrophenvorso
 rge 2015-2030\, das 2015 von den VN-Mitgliedstaaten angenommen wurde.
LAST-MODIFIED:20220925T151914Z
LOCATION:Cancun\, Mexico
URL:https://climate-adapt.eea.europa.eu/de/more-events/5th-global-platform
 -for-disaster-risk-reduction
END:VEVENT
BEGIN:VTIMEZONE
TZID:Europe/Helsinki
X-LIC-LOCATION:Europe/Helsinki
BEGIN:DAYLIGHT
DTSTART:20170326T040000
TZNAME:EEST
TZOFFSETFROM:+0200
TZOFFSETTO:+0300
END:DAYLIGHT
END:VTIMEZONE
END:VCALENDAR
