BEGIN:VCALENDAR
VERSION:2.0
PRODID:-//Plone.org//NONSGML plone.app.event//EN
X-WR-TIMEZONE:Europe/Helsinki
BEGIN:VEVENT
SUMMARY:Zukunft der Anpassung 2016: Verfahren und Lösungen
DTSTART;TZID=Europe/Helsinki:20160510T030000
DTEND;TZID=Europe/Helsinki:20160511T025959
DTSTAMP:20260419T183616Z
UID:dd98cafa9d0a42f68fd55af74d5e9c51@climate-adapt.eea.europa.eu
CONTACT:http://www.adaptationfutures2016.org/
CREATED:20220910T184101Z
LAST-MODIFIED:20220925T151908Z
LOCATION:Rotterdam\, The Netherlands
URL:https://climate-adapt.eea.europa.eu/de/more-events/adaptation-futures-
 2016-practices-and-solutions
END:VEVENT
BEGIN:VTIMEZONE
TZID:Europe/Helsinki
X-LIC-LOCATION:Europe/Helsinki
BEGIN:DAYLIGHT
DTSTART:20160327T040000
TZNAME:EEST
TZOFFSETFROM:+0200
TZOFFSETTO:+0300
END:DAYLIGHT
END:VTIMEZONE
END:VCALENDAR
