BEGIN:VCALENDAR
VERSION:2.0
PRODID:-//Plone.org//NONSGML plone.app.event//EN
X-WR-TIMEZONE:Europe/Helsinki
BEGIN:VEVENT
SUMMARY:Blue Guide to Coastal Resilience: Start in einem Webinar
DTSTART;TZID=Europe/Helsinki:20210202T160000
DTEND;TZID=Europe/Helsinki:20210202T170000
DTSTAMP:20260420T015816Z
UID:66e0100bb86d4673b5974e071d0b9ed4@climate-adapt.eea.europa.eu
CONTACT:https://register.gotowebinar.com/register/7788263484258522382
CREATED:20220910T184214Z
DESCRIPTION:Die Naturerhaltung (TNC)\, die PEDRR und die Friends of Ecosys
 tem-based Adaptation (FEBA) richten gemeinsam ein Webinar aus\, um den Blu
 e Guide to Coastal Resilience in Eonor of World Wetlands Day zu starten. D
 ieser Leitfaden bietet schrittweise Anleitungen dazu\, wie naturbasierte L
 ösungen (NbS) in die Katastrophenvorsorgeplanung integriert werden könne
 n.
LAST-MODIFIED:20220925T153437Z
LOCATION:Webinar
URL:https://climate-adapt.eea.europa.eu/de/more-events/blue-guide-to-coast
 al-resilience-launch-in-a-webinar
END:VEVENT
BEGIN:VTIMEZONE
TZID:Europe/Helsinki
X-LIC-LOCATION:Europe/Helsinki
BEGIN:STANDARD
DTSTART:20201025T030000
TZNAME:EET
TZOFFSETFROM:+0300
TZOFFSETTO:+0200
END:STANDARD
END:VTIMEZONE
END:VCALENDAR
