BEGIN:VCALENDAR
VERSION:2.0
PRODID:-//Plone.org//NONSGML plone.app.event//EN
X-WR-TIMEZONE:Europe/Helsinki
BEGIN:VEVENT
SUMMARY:Projektkonferenz zum Thema „Überwindung der Lücke für Innovat
 ionen in der Katastrophenresilienz“
DTSTART;TZID=Europe/Helsinki:20200625T153000
DTEND;TZID=Europe/Helsinki:20200625T170000
DTSTAMP:20260421T125847Z
UID:52a3d27f3041461d9d89089e49e27b63@climate-adapt.eea.europa.eu
CONTACT:https://www.eventbrite.nl/e/final-conference-brigaid-registration-
 105722085604
CREATED:20220910T184201Z
DESCRIPTION:Auf der Abschlusskonferenz des H2020-Projekts BRIGAID – „B
 ridging The Gap for Innovations In Disaster Resilience“ (Überbrückung 
 der Lücke für Innovationen in der Katastrophenresilienz) geht es darum\,
  die Auswirkungen klimabedingter Katastrophen wie extreme Wetterereignisse
 \, Dürren und Überschwemmungen zu verringern. Sie erfahren mehr über di
 e Instrumente und Methoden\, die jetzt zur Unterstützung von Innovationen
  zur Verfügung stehen\, und nehmen an der ersten öffentlichen Präsentat
 ion der Folgeinitiative „BRIGAID Connect“ teil.
LAST-MODIFIED:20220925T153009Z
LOCATION:Online
URL:https://climate-adapt.eea.europa.eu/de/more-events/bridging-the-gap-fo
 r-innovations-in-disaster-resilience
END:VEVENT
BEGIN:VTIMEZONE
TZID:Europe/Helsinki
X-LIC-LOCATION:Europe/Helsinki
BEGIN:DAYLIGHT
DTSTART:20200329T040000
TZNAME:EEST
TZOFFSETFROM:+0200
TZOFFSETTO:+0300
END:DAYLIGHT
END:VTIMEZONE
END:VCALENDAR
