BEGIN:VCALENDAR
VERSION:2.0
PRODID:-//Plone.org//NONSGML plone.app.event//EN
X-WR-TIMEZONE:Europe/Helsinki
BEGIN:VEVENT
SUMMARY:Konferenz der Copernicus-Dienste zum Klimawandel und Generalversam
 mlung
DTSTART;TZID=Europe/Helsinki:20210518T010000
DTEND;TZID=Europe/Helsinki:20210521T005959
DTSTAMP:20260419T185754Z
UID:905bdb3bdbc1494993ab25e610a38696@climate-adapt.eea.europa.eu
CONTACT:https://climate.copernicus.eu/c3s-conference-general-assembly?q=c3
 s-4th-general-assembly
CREATED:20220910T184211Z
DESCRIPTION:Interesse an Klimarisiken und Klimaresilienz? Teilnahme an der
  Konferenz und Generalversammlung des Copernicus-Dienstes für den Klimawa
 ndel (C3S)\, drei Nachmittag von Online-Präsentationen und Diskussionen 
 über die jüngsten Entwicklungen bei der Klimaüberwachung mit Rednern un
 d Podiumsteilnehmern aus führenden internationalen Forschungsinstituten\,
  Regierungsstellen und Innovatoren des Privatsektors.
LAST-MODIFIED:20220925T153142Z
LOCATION:Online
URL:https://climate-adapt.eea.europa.eu/de/more-events/c3s-conference-gene
 ral-assembly
END:VEVENT
BEGIN:VTIMEZONE
TZID:Europe/Helsinki
X-LIC-LOCATION:Europe/Helsinki
BEGIN:DAYLIGHT
DTSTART:20210328T040000
TZNAME:EEST
TZOFFSETFROM:+0200
TZOFFSETTO:+0300
END:DAYLIGHT
END:VTIMEZONE
END:VCALENDAR
