BEGIN:VCALENDAR
VERSION:2.0
PRODID:-//Plone.org//NONSGML plone.app.event//EN
X-WR-TIMEZONE:Europe/Helsinki
BEGIN:VEVENT
SUMMARY:Climateurope2-Webstival: Klimadienstleistungen für die Anpassung
DTSTART;VALUE=DATE:20240919
DTEND;VALUE=DATE:20240922
DTSTAMP:20260419T190048Z
UID:816cd47fa754433e9adfbeb751a92c34@climate-adapt.eea.europa.eu
CATEGORIES:event,webstival,Climateurope2
CONTACT:https://climateurope2.eu/news-events/events/events/climateurope2-w
 ebstival-third-edition
CREATED:20250422T182533Z
DESCRIPTION:Climateurope2 fördert aufschlussreiche Community-Diskussionen
  über Design\, Nutzung\, Qualität\, Geschäftsinnovation und politische 
 Treiber von Klimadienstleistungen. In diesem Webstival wird untersucht\, w
 as einen Klimadienst nützlich\, zweckmäßig\, lebensfähig\, gerecht und
  transparent macht. Es wird auch untersucht\, wie Klimadienste transformat
 ive Klimaschutzmaßnahmen - sowohl Klimaschutz als auch Anpassung - zur Be
 wältigung der Klimakrise anregen können.
LAST-MODIFIED:20250422T182533Z
LOCATION:Online
URL:https://climate-adapt.eea.europa.eu/de/more-events/climateurope2-webst
 ival-with-climate-services-for-climate-adaptation
END:VEVENT
END:VCALENDAR
