BEGIN:VCALENDAR
VERSION:2.0
PRODID:-//Plone.org//NONSGML plone.app.event//EN
X-WR-TIMEZONE:Europe/Helsinki
BEGIN:VEVENT
SUMMARY:29. Tagung der Konferenz der Vertragsparteien des Rahmenübereinko
 mmens der Vereinten Nationen über Klimaänderungen
DTSTART;VALUE=DATE:20241111
DTEND;VALUE=DATE:20241124
DTSTAMP:20260421T001255Z
UID:03a2c4301a7b41abbc4f9204014268a6@climate-adapt.eea.europa.eu
CATEGORIES:event,COP
CONTACT:https://cop29.az/en
CREATED:20250422T182608Z
DESCRIPTION:Die 29. Tagung der Konferenz der Vertragsparteien des Rahmenü
 bereinkommens der Vereinten Nationen über Klimaänderungen findet vom 11.
  bis 22. November 2024 in Baku (Aserbaidschan) statt.
LAST-MODIFIED:20250422T182609Z
LOCATION:Baku\, Azerbaijan
URL:https://climate-adapt.eea.europa.eu/de/more-events/cop29
END:VEVENT
END:VCALENDAR
