BEGIN:VCALENDAR
VERSION:2.0
PRODID:-//Plone.org//NONSGML plone.app.event//EN
X-WR-TIMEZONE:Europe/Helsinki
BEGIN:VEVENT
SUMMARY:Begleitveranstaltung ECCA2023: durchgängige Berücksichtigung der
  Anpassung auf lokaler Ebene
DTSTART;TZID=Europe/Helsinki:20230620T020000
DTEND;TZID=Europe/Helsinki:20230621T015959
DTSTAMP:20260419T174322Z
UID:767d75e9b9974073a40583cf26b79273@climate-adapt.eea.europa.eu
CONTACT:https://www.ecca2023.eu/nocca-stronger-together-for-a-climate-resi
 lient-north-will-be-present-at-ecca2023-side-event-on-mainstreaming-adapta
 tion-at-the-local-level
CREATED:20230619T142915Z
DESCRIPTION:Die Kernbotschaften der 6. Nordischen Konferenz zur Anpassung 
 an den Klimawandel (NOCCA 2023) werden auf einer europäischen Nebenverans
 taltung zur Anpassung an den Klimawandel (ECCA) vorgestellt. Auf dieser Ne
 benveranstaltung werden Maßnahmen zur durchgängigen Berücksichtigung de
 r Anpassung an den Klimawandel auf lokaler Ebene in der europäischen Geme
 inschaft erörtert und geprüft. Alle ECCA2023-Teilnehmer\, die an Themen 
 wie grenzüberschreitende Risiken\, naturbasierte Lösungen und Masterplan
 ung auf lokaler Ebene interessiert sind\, können an der Sitzung teilnehme
 n.
LAST-MODIFIED:20230619T145535Z
LOCATION:Dublin\, Irland
URL:https://climate-adapt.eea.europa.eu/de/more-events/ecca2023-side-event
 -mainstreaming-adaptation-at-the-local-level
END:VEVENT
BEGIN:VTIMEZONE
TZID:Europe/Helsinki
X-LIC-LOCATION:Europe/Helsinki
BEGIN:DAYLIGHT
DTSTART:20230326T040000
TZNAME:EEST
TZOFFSETFROM:+0200
TZOFFSETTO:+0300
END:DAYLIGHT
END:VTIMEZONE
END:VCALENDAR
