BEGIN:VCALENDAR
VERSION:2.0
PRODID:-//Plone.org//NONSGML plone.app.event//EN
X-WR-TIMEZONE:Europe/Helsinki
BEGIN:VEVENT
SUMMARY:Hochwasserrisikokonferenz 2016
DTSTART;TZID=Europe/Helsinki:20161017T100000
DTEND;TZID=Europe/Helsinki:20161021T235500
DTSTAMP:20260420T151529Z
UID:018ce9452f104ec5b3655900097d524f@climate-adapt.eea.europa.eu
CONTACT:http://floodrisk2016.net/
CREATED:20220910T184128Z
DESCRIPTION:Das Hochwasserrisiko 2016 wird Forschungsfortschritte bei der 
 Analyse von Hochwasserrisiken und Innovationen in der Praxis des Hochwasse
 rrisikomanagements untersuchen. Die Konferenz wird sich mit allen Aspekten
  des Hochwasserrisikos befassen und sich mit den Ursachen von Überschwemm
 ungen\, ihren Auswirkungen auf Menschen\, Eigentum und Umwelt sowie mit Po
 rtfolios von Risikomanagementmaßnahmen befassen.
LAST-MODIFIED:20220925T151918Z
LOCATION:Lyon\, France
URL:https://climate-adapt.eea.europa.eu/de/more-events/floodrisk-2016-conf
 erence
END:VEVENT
BEGIN:VTIMEZONE
TZID:Europe/Helsinki
X-LIC-LOCATION:Europe/Helsinki
BEGIN:DAYLIGHT
DTSTART:20160327T040000
TZNAME:EEST
TZOFFSETFROM:+0200
TZOFFSETTO:+0300
END:DAYLIGHT
END:VTIMEZONE
END:VCALENDAR
