BEGIN:VCALENDAR
VERSION:2.0
PRODID:-//Plone.org//NONSGML plone.app.event//EN
X-WR-TIMEZONE:Europe/Helsinki
BEGIN:VEVENT
SUMMARY:Konferenz „Wachstum grüner Städte“ – Floriade EXPO 2022
DTSTART;TZID=Europe/Helsinki:20220704T110000
DTEND;TZID=Europe/Helsinki:20220705T141500
DTSTAMP:20260421T135559Z
UID:565bb875bc1d444d93987d4bd7758017@climate-adapt.eea.europa.eu
CONTACT:https://growinggreencitiesconference.com/
CREATED:20220910T184207Z
DESCRIPTION:Klimawandel\, Verstädterung\, rückläufige biologische Vielf
 alt\, extreme Wetterbedingungen und Steigerung der Nahrungsmittelproduktio
 n: dies sind nur einige der Faktoren\, die die Zukunft der Städte infrage
  stellen. Es gibt immer mehr Belege dafür\, dass naturbasierte Lösungen 
 solide Investitionen für künftige städtische Herausforderungen darstell
 en können. Gerechte Lösungen für Städte sind ein weiteres Thema. Zu di
 eser zweitägigen Konferenz werden insbesondere Praktiker\, Forscher\, pol
 itische Entscheidungsträger und Studierende eingeladen.
LAST-MODIFIED:20220925T153126Z
LOCATION:Almere\, The Netherlands
URL:https://climate-adapt.eea.europa.eu/de/more-events/growing-green-citie
 s-floriade-2022-conference
END:VEVENT
BEGIN:VTIMEZONE
TZID:Europe/Helsinki
X-LIC-LOCATION:Europe/Helsinki
BEGIN:DAYLIGHT
DTSTART:20220327T040000
TZNAME:EEST
TZOFFSETFROM:+0200
TZOFFSETTO:+0300
END:DAYLIGHT
END:VTIMEZONE
END:VCALENDAR
