BEGIN:VCALENDAR
VERSION:2.0
PRODID:-//Plone.org//NONSGML plone.app.event//EN
X-WR-TIMEZONE:Europe/Helsinki
BEGIN:VEVENT
SUMMARY:Erdbeobachtungen für die Anpassung an den Klimawandel öffnen
DTSTART;VALUE=DATE:20251208
DTEND;VALUE=DATE:20251213
DTSTAMP:20260420T194751Z
UID:ab9813f19a124aafa96eb8588f020993@climate-adapt.eea.europa.eu
CONTACT:https://workshops.issibern.ch/eo-for-climate-adaption/
CREATED:20260105T154622Z
DESCRIPTION:Der Einsatz von Erdbeobachtungen (EO) für lokale Zwecke wie d
 ie Anpassung an den Klimawandel oder den Nachweis von Verlusten und Ampere
 \; Schäden können Hindernissen gegenüberstehen. Ziel dieses Workshops\,
  der vom International Space Science Institute\, Schweiz\, organisiert wir
 d\, ist es\, die Nutzbarkeit von EO aus lokaler Perspektive zu bewerten. D
 arüber hinaus wird sie Hindernisse und weitere Wege aufzeigen und so die 
 EO „öffnen“\, um das Versprechen der offenen Wissenschaft zu erfülle
 n.
LAST-MODIFIED:20260105T154622Z
LOCATION:Bern\, Switzerland
URL:https://climate-adapt.eea.europa.eu/de/more-events/opening-up-earth-ob
 servations-for-climate-adaptation
END:VEVENT
END:VCALENDAR
