BEGIN:VCALENDAR
VERSION:2.0
PRODID:-//Plone.org//NONSGML plone.app.event//EN
X-WR-TIMEZONE:Europe/Helsinki
BEGIN:VEVENT
SUMMARY:Webinar: Datenquellen für die Entwicklung und Umsetzung städtisc
 her Anpassungspläne in Polen
DTSTART;TZID=Europe/Helsinki:20250402T110000
DTEND;TZID=Europe/Helsinki:20250402T133000
DTSTAMP:20260419T141514Z
UID:20259d728da84f739cf9b4b7099e6fd9@climate-adapt.eea.europa.eu
CATEGORIES:event,webinar,climate adaptation plan
CONTACT:https://klimat.webex.com/weblink/register/re9bf603c684605f260b1ac3
 ef38335f9
CREATED:20250422T204546Z
DESCRIPTION:Dieses Webinar\, das vom polnischen Ministerium für Klima und
  Umwelt (Ministerstwo Klimatu i Środowiska) veranstaltet wird\, bietet ei
 nen Überblick über die verfügbaren Datenquellen sowohl auf polnischer a
 ls auch auf europäischer Ebene. Die Teilnehmer erhalten Einblicke in die 
 effektive Nutzung dieser Datenquellen für die Entwicklung und Umsetzung s
 tädtischer Anpassungspläne mit Schwerpunkt auf praktischen Instrumenten\
 , Methoden und Fallstudien. Das Webinar findet in polnischer Sprache mit S
 imultanübersetzung ins Englische statt.
LAST-MODIFIED:20250422T204546Z
LOCATION:Online
URL:https://climate-adapt.eea.europa.eu/de/more-events/webinar-data-source
 s-for-developing-and-implementing-urban-adaptation-plans
END:VEVENT
BEGIN:VTIMEZONE
TZID:Europe/Helsinki
X-LIC-LOCATION:Europe/Helsinki
BEGIN:DAYLIGHT
DTSTART:20250330T040000
TZNAME:EEST
TZOFFSETFROM:+0200
TZOFFSETTO:+0300
END:DAYLIGHT
END:VTIMEZONE
END:VCALENDAR
