BEGIN:VCALENDAR
VERSION:2.0
PRODID:-//Plone.org//NONSGML plone.app.event//EN
X-WR-TIMEZONE:Europe/Helsinki
BEGIN:VEVENT
SUMMARY:5η Παγκόσμια Πλατφόρμα για τη Μείωση
  του Κινδύνου Καταστροφών
DTSTART;VALUE=DATE:20170522
DTEND;VALUE=DATE:20170528
DTSTAMP:20260419T183110Z
UID:49b2f9b4e1864260a80f6cea1cd4d5fc@localhost:8001
CONTACT:http://www.unisdr.org/conferences/2017/globalplatform
CREATED:20250411T121342Z
DESCRIPTION:Διεθνές φόρουμ αφιερωμένο στο πλα
 ίσιο του Sendai για τη μείωση του κινδύνου κ
 αταστροφών 2015-2030\, το οποίο εγκρίθηκε από
  τα κράτη μέλη του ΟΗΕ το 2015.
LAST-MODIFIED:20250411T121342Z
LOCATION:Cancun\, Mexico
URL:https://climate-adapt.eea.europa.eu/el/more-events/5th-global-platform
 -for-disaster-risk-reduction
END:VEVENT
END:VCALENDAR
