BEGIN:VCALENDAR
VERSION:2.0
PRODID:-//Plone.org//NONSGML plone.app.event//EN
X-WR-TIMEZONE:Europe/Helsinki
BEGIN:VEVENT
SUMMARY:7ο Ετήσιο Σεμινάριο του Κέντρου Γνώσ
 ης για τη Διαχείριση Κινδύνων Καταστροφ
 ών
DTSTART;TZID=Europe/Helsinki:20231121T103000
DTEND;TZID=Europe/Helsinki:20231121T193000
DTSTAMP:20260422T062723Z
UID:8b3ffc0e79c741a691e66dcd2c977811@climate-adapt.eea.europa.eu
CATEGORIES:Disaster Resilience,Climate extremes,EU resilience agenda
CONTACT:ec-drmkc-annual-seminar@ec.europa.eu\, https://drmkc.jrc.ec.europa
 .eu/events-news/drmkc-annual-seminars/7th-drmkc-annual-seminar
CREATED:20250411T121351Z
DESCRIPTION:Το 7ο ετήσιο σεμινάριο του Κέντρου
  Γνώσεων για τη Διαχείριση Κινδύνων Κατα
 στροφών (DRMKC)\, το οποίο διοργανώνεται στο
  πλαίσιο του επιστημονικού πυλώνα του δι
 κτύου γνώσεων για την πολιτική προστασί
 α της Ένωσης\, θα υπερβεί τις ανησυχητικέ
 ς δηλώσεις σχετικά με τη σοβαρότητα των 
 καταστροφών\, τα ακραία κλιματικά φαινόμ
 ενα και τα μελλοντικά σενάρια καταστροφ
 ών και θα στρέψει την προσοχή στη δράση κ
 αι τις γνώσεις που θα συμβάλουν στην προ
 ώθηση του θεματολογίου ανθεκτικότητας τ
 ης ΕΕ\, συμπεριλαμβανομένων των στόχων τ
 ης Ένωσης για την ανθεκτικότητα στις κατ
 αστροφές. Η εκδήλωση θέλει να προσεγγίσε
 ι ένα ευρύ κοινό από κυβερνητικούς εμπει
 ρογνώμονες και συμβούλους σε ιδιωτικές 
 επιχειρήσεις και ενδιαφερόμενους πολίτ
 ες.
LAST-MODIFIED:20250411T121351Z
LOCATION:Brussels\, Belgium
URL:https://climate-adapt.eea.europa.eu/el/more-events/7th-disaster-risk-m
 anagement-knowledge-centre-annual-seminar
END:VEVENT
BEGIN:VTIMEZONE
TZID:Europe/Helsinki
X-LIC-LOCATION:Europe/Helsinki
BEGIN:STANDARD
DTSTART:20231029T030000
TZNAME:EET
TZOFFSETFROM:+0300
TZOFFSETTO:+0200
END:STANDARD
END:VTIMEZONE
END:VCALENDAR
