BEGIN:VCALENDAR
VERSION:2.0
PRODID:-//Plone.org//NONSGML plone.app.event//EN
X-WR-TIMEZONE:Europe/Helsinki
BEGIN:VEVENT
SUMMARY:Υπηρεσία Copernicus για την κλιματική αλ
 λαγή — Υπηρεσίες μάθησης χρηστών: Εκπαι
 δεύστε το μάθημα εκπαιδευτή
DTSTART;TZID=Europe/Helsinki:20180917T100000
DTEND;TZID=Europe/Helsinki:20181130T180000
DTSTAMP:20260420T060906Z
UID:a98e80d1b1904563ad20477d433c793c@varnish:6081
CONTACT:https://climate.copernicus.eu/c3s-user-learning-services-train-tra
 iner-course
CREATED:20250411T121440Z
DESCRIPTION:Οι υπηρεσίες μάθησης χρηστών της 
 υπηρεσίας Copernicus για την κλιματική αλλαγ
 ή (C3S) προσφέρουν δωρεάν εκδηλώσεις κατάρ
 τισης και πόρους σχετικά με τον τρόπο χρ
 ήσης της πλατφόρμας Copernicus Climate Data Store (CDS) 
 και του περιεχομένου της για την υποστήρ
 ιξη των εκτιμήσεων επιπτώσεων της κλιμα
 τικής αλλαγής. Τα μαθήματα συνδυάζουν onli
 ne μάθηση και εκδηλώσεις πρόσωπο με πρόσω
 πο σε 30 χώρες σε όλη την Ευρώπη.
LAST-MODIFIED:20250411T121440Z
LOCATION:across Europe
URL:https://climate-adapt.eea.europa.eu/el/more-events/copernicus-climate-
 change-service-user-learning-services-train-the-trainer-course
END:VEVENT
BEGIN:VTIMEZONE
TZID:Europe/Helsinki
X-LIC-LOCATION:Europe/Helsinki
BEGIN:DAYLIGHT
DTSTART:20180325T040000
TZNAME:EEST
TZOFFSETFROM:+0200
TZOFFSETTO:+0300
END:DAYLIGHT
BEGIN:STANDARD
DTSTART:20181028T030000
TZNAME:EET
TZOFFSETFROM:+0300
TZOFFSETTO:+0200
END:STANDARD
END:VTIMEZONE
END:VCALENDAR
