BEGIN:VCALENDAR
VERSION:2.0
PRODID:-//Plone.org//NONSGML plone.app.event//EN
X-WR-TIMEZONE:Europe/Helsinki
BEGIN:VEVENT
SUMMARY:Δεδομένα για τη δράση για το κλίμα σ
 τη Μεσόγειο
DTSTART;VALUE=DATE:20211025
DTEND;VALUE=DATE:20211028
DTSTAMP:20260421T183306Z
UID:989442c0137b4d10964556b90fecfee0@varnish:6081
CATEGORIES:Climate data,Climate change datasets and tools,Mediterranean
CONTACT:https://climate.copernicus.eu/data-climate-action-mediterranean
CREATED:20250411T121450Z
DESCRIPTION:Στις 25 και 26 Οκτωβρίου\, η Υπηρεσία
  για την Κλιματική Αλλαγή του Copernicus και η
  Ένωση για τη Μεσόγειο θα φιλοξενήσουν έ
 να εικονικό εργαστήριο για την παρουσία
 ση των προκλήσεων που συνδέονται με την 
 κλιματική αλλαγή στη Μεσόγειο\, καθώς κα
 ι του τρόπου με τον οποίο αυτές μπορούν ν
 α ξεπεραστούν με την καλύτερη αξιοποίησ
 η των κλιματικών δεδομένων.
LAST-MODIFIED:20250411T121450Z
LOCATION:Online
URL:https://climate-adapt.eea.europa.eu/el/more-events/data-for-climate-ac
 tion-in-the-mediterranean
END:VEVENT
END:VCALENDAR
