BEGIN:VCALENDAR
VERSION:2.0
PRODID:-//Plone.org//NONSGML plone.app.event//EN
X-WR-TIMEZONE:Europe/Helsinki
BEGIN:VEVENT
SUMMARY:Διάλογος για δίκαιες μεταβάσεις
DTSTART;TZID=Europe/Helsinki:20221012T140000
DTEND;TZID=Europe/Helsinki:20221012T160000
DTSTAMP:20260421T183255Z
UID:fef8c87253d2408ea8e69b5dbd21a583@varnish:6081
CATEGORIES:event,societal transformation
CONTACT:https://www.wur.nl/en/activity/just-transitions-dialogue-just-resi
 lience-you-show-it...-and-then-you-know-it.htm
CREATED:20250411T121456Z
DESCRIPTION:Σε αυτόν τον διάλογο\, με τίτλο: «Α
 πλή ανθεκτικότητα: εσύ το δείχνεις... Και 
 στη συνέχεια το γνωρίζετε»\, που διοργαν
 ώθηκε από το Wageningen UR\, και θα δοθεί έμφαση
  στη σημασία της δίκαιης ανθεκτικότητας 
 στις στρατηγικές προσαρμογής σε επίπεδο
  ΕΕ και σε τοπικό επίπεδο\, καθώς και στον
  τρόπο μέτρησης της δίκαιης ανθεκτικότη
 τας.
LAST-MODIFIED:20250411T121457Z
LOCATION:Online
URL:https://climate-adapt.eea.europa.eu/el/more-events/dialogue-on-just-tr
 ansitions
END:VEVENT
BEGIN:VTIMEZONE
TZID:Europe/Helsinki
X-LIC-LOCATION:Europe/Helsinki
BEGIN:DAYLIGHT
DTSTART:20220327T040000
TZNAME:EEST
TZOFFSETFROM:+0200
TZOFFSETTO:+0300
END:DAYLIGHT
END:VTIMEZONE
END:VCALENDAR
