BEGIN:VCALENDAR
VERSION:2.0
PRODID:-//Plone.org//NONSGML plone.app.event//EN
X-WR-TIMEZONE:Europe/Helsinki
BEGIN:VEVENT
SUMMARY:EMECS’11 θαλάσσιες ακτές XXVI
DTSTART;VALUE=DATE:20160822
DTEND;VALUE=DATE:20160824
DTSTAMP:20260421T021255Z
UID:df0ed0e224c5418498690a5c5627bcd5@localhost:8001
CONTACT:http://www.emecs-sc2016.com/
CREATED:20250411T121511Z
DESCRIPTION:Θέμα της διάσκεψης: Διαχείριση τω
 ν κινδύνων για τις παράκτιες περιοχές κα
 ι κοινότητες σε έναν μεταβαλλόμενο κόσμ
 ο.
LAST-MODIFIED:20250411T121511Z
LOCATION:St. Petersburg\, Russia
URL:https://climate-adapt.eea.europa.eu/el/more-events/emecs-11-seacoasts-
 xxvi
END:VEVENT
END:VCALENDAR
