BEGIN:VCALENDAR
VERSION:2.0
PRODID:-//Plone.org//NONSGML plone.app.event//EN
X-WR-TIMEZONE:Europe/Helsinki
BEGIN:VEVENT
SUMMARY:Εκδήλωση «Καλύτερες Πόλεις» για το 
 Αστικό Μέλλον
DTSTART;VALUE=DATE:20260324
DTEND;VALUE=DATE:20260328
DTSTAMP:20260420T012618Z
UID:2b09b7cc82f54c72859321cc93265853@climate-adapt.eea.europa.eu
CATEGORIES:Cities,Event
CONTACT:https://urban-future.org/event/uf26-ljubljana/
CREATED:20260120T092434Z
DESCRIPTION:Διοργανώνεται από το Αυστριακό Ασ
 τικό Μέλλον (UFGC GmbH)\, ηγέτες πόλεων και φο
 ρείς αλλαγής συναντώνται στη Λιουμπλιάν
 α για να προωθήσουν καλύτερες πόλεις. Η π
 ροσαρμογή στην κλιματική αλλαγή καλύπτε
 ται ως επί το πλείστον στον άξονα 4\, ανθε
 κτικές κοινωνίες. Το Urban Future υποστηρίζει 
 ένα κίνημα από τη βάση προς την κορυφή στ
 ην Ευρώπη με μια παγκόσμια κοινότητα 50.000
  φορέων αστικής αλλαγής.
LAST-MODIFIED:20260120T092457Z
LOCATION:Ljubljana\, Slovenia
URL:https://climate-adapt.eea.europa.eu/el/more-events/the-uf-better-citie
 s-event
END:VEVENT
END:VCALENDAR
