BEGIN:VCALENDAR
VERSION:2.0
PRODID:-//Plone.org//NONSGML plone.app.event//EN
X-WR-TIMEZONE:Europe/Helsinki
BEGIN:VEVENT
SUMMARY:Climate risks for agriculture - data sources in Poland and at EU l
 evels
DTSTART;TZID=Europe/Helsinki:20251113T110000
DTEND;TZID=Europe/Helsinki:20251113T131000
DTSTAMP:20260420T182933Z
UID:cfc301a5127140729794da3715e265e5@climate-adapt.eea.europa.eu
CONTACT:climate.adapt@eea.europa.eu\, https://klimat.webex.com/weblink/reg
 ister/r13fa5e4b23dbf532af2ee46e25413bfb
CREATED:20250620T084157Z
LAST-MODIFIED:20251103T150510Z
LOCATION:Online event
URL:https://climate-adapt.eea.europa.eu/en/cca-events/17h-climate-adapt-we
 binar
END:VEVENT
BEGIN:VTIMEZONE
TZID:Europe/Helsinki
X-LIC-LOCATION:Europe/Helsinki
BEGIN:STANDARD
DTSTART:20251026T030000
TZNAME:EET
TZOFFSETFROM:+0300
TZOFFSETTO:+0200
END:STANDARD
END:VTIMEZONE
END:VCALENDAR
