BEGIN:VCALENDAR
VERSION:2.0
PRODID:-//Plone.org//NONSGML plone.app.event//EN
X-WR-TIMEZONE:Europe/Helsinki
BEGIN:VEVENT
SUMMARY:Public procurement in buildings
DTSTART;TZID=Europe/Helsinki:20250220T160000
DTEND;TZID=Europe/Helsinki:20250220T173000
DTSTAMP:20260420T132932Z
UID:276e502ee3b3460382d2c10479dcf0e1@climate-adapt.eea.europa.eu
CONTACT:https://us02web.zoom.us/meeting/register/tZIlc-ivrTwrGdNjApuUxXXtD
 lStjUw8qYyj#/registration
CREATED:20250121T155746Z
DESCRIPTION:20 February 2025
LAST-MODIFIED:20260128T154835Z
URL:https://climate-adapt.eea.europa.eu/en/mission/events-inactive/public-
 procurement-in-buildings
END:VEVENT
BEGIN:VTIMEZONE
TZID:Europe/Helsinki
X-LIC-LOCATION:Europe/Helsinki
BEGIN:STANDARD
DTSTART:20241027T030000
TZNAME:EET
TZOFFSETFROM:+0300
TZOFFSETTO:+0200
END:STANDARD
END:VTIMEZONE
END:VCALENDAR
